BEGIN:VCALENDAR
VERSION:2.0
PRODID:icalendar-ruby
CALSCALE:GREGORIAN
METHOD:PUBLISH
BEGIN:VEVENT
DTSTAMP:20260423T084702Z
UID:786-4047869@mountoliveefc.com
DTSTART:20260521T180000Z
DTEND:20260521T200000Z
CLASS:PUBLIC
CREATED:20260422T134459
DESCRIPTION:Seniors! Join us for our monthly lunch on May 21st at 12:00pm. 
 It’s always a wonderful time to gather around a delicious meal\, share s
 tories\, and enjoy meaningful fellowship together. Whether you’ve been c
 oming for years or it’s your first time\, you’ll be warmly welcomed.\n
 These lunches are a great opportunity to build friendships\, encourage one
  another\, and stay connected within our church family. We’d love for yo
 u to sign up and bring a friend along—there’s always room for one more
  at the table!
LAST-MODIFIED:20260422T134459
LOCATION:Chapel
SUMMARY:Seniors Fellowship Lunch
URL;VALUE=URI:https://www.mountoliveefc.com/events/seniors-fellowship-lunch
 --786/2026-05-21
ATTACH;FILENAME=Seniors Monthly Lunch.png;FMTTYPE=image/png:https://dq5pwpg
 1q8ru0.cloudfront.net/2026/04/22/19/44/59/fea72926-f931-420b-af50-3f2917b9
 535c/Seniors%20Monthly%20Lunch.png
END:VEVENT
END:VCALENDAR
