BEGIN:VCALENDAR
VERSION:2.0
PRODID:icalendar-ruby
CALSCALE:GREGORIAN
METHOD:PUBLISH
BEGIN:VEVENT
DTSTAMP:20260423T213728Z
UID:308-4059126@mountoliveefc.com
DTSTART:20261018T150000Z
DTEND:20261018T160000Z
CLASS:PUBLIC
CREATED:20260423T132101
DESCRIPTION:Come as you are! We work hard to be real people. Every Sunday y
 ou will be amidst highly educated and barely educated people\, wealthy peo
 ple and poor people\, older people and younger people and people from all 
 sorts of backgrounds. There is not a standard by which we measure people. 
 So you can come as you are.\nOur service consists of announcements\, music
 \, the occasional real life stories from people from our community\, and a
  30 minute talk from one of our pastors or a guest.\nClick Here To Find ou
 t more about our Sunday Services
LAST-MODIFIED:20260423T132101
LOCATION:
SUMMARY:Sunday Service
URL;VALUE=URI:https://www.mountoliveefc.com/events/sunday-service/2026-10-1
 8
END:VEVENT
END:VCALENDAR
